BEGIN:VCALENDAR
VERSION:2.0
PRODID:-//Squarespace Inc/Squarespace 6//v6//EN
BEGIN:VEVENT
UID:5878742d59cc68c9302a99e3@squarespace.com
DTSTAMP:20170113T063311Z
DTSTART:20170116T070000Z
DTEND:20170117T080000Z
SUMMARY:Cybercrime workshops for Insurance Brokers in Hong Kong
END:VEVENT
END:VCALENDAR
