BEGIN:VCALENDAR
VERSION:2.0
PRODID:-//Squarespace Inc/Squarespace 6//v6//EN
BEGIN:VEVENT
UID:5850a8f1f7e0abf08b5628b0@squarespace.com
DTSTAMP:20161214T110354Z
DTSTART:20161219T223000Z
DTEND:20161223T073000Z
SUMMARY:Event Number 1
END:VEVENT
END:VCALENDAR
